Package: CompoundDb Version: 1.11.2 Command: /home/biocbuild/R/R/bin/R CMD check --install=check:CompoundDb.install-out.txt --library=/home/biocbuild/R/R/site-library --no-vignettes --timings CompoundDb_1.11.2.tar.gz StartedAt: 2025-01-28 09:25:39 -0000 (Tue, 28 Jan 2025) EndedAt: 2025-01-28 09:28:52 -0000 (Tue, 28 Jan 2025) EllapsedTime: 193.2 seconds RetCode: 0 Status: WARNINGS CheckDir: CompoundDb.Rcheck Warnings: 5