Package: CompoundDb Version: 1.13.0 Maintainer: Johannes Rainer MaintainerEmail: johannes.rainer at eurac.edu git_url: https://git.bioconductor.org/packages/CompoundDb git_branch: devel git_last_commit: af95c7e git_last_commit_date: 2025-04-15 12:45:09 -0400 (Tue, 15 Apr 2025)