Package: ComplexHeatmap Version: 2.25.2 Command: rm -rf ComplexHeatmap.buildbin-libdir && mkdir ComplexHeatmap.buildbin-libdir && F:\biocbuild\bbs-3.22-bioc\R\bin\R.exe CMD INSTALL --build --library=ComplexHeatmap.buildbin-libdir ComplexHeatmap_2.25.2.tar.gz StartedAt: 2025-08-15 10:00:31 -0400 (Fri, 15 Aug 2025) EndedAt: 2025-08-15 10:09:44 -0400 (Fri, 15 Aug 2025) EllapsedTime: 552.7 seconds RetCode: 0 Status: OK PackageFile: ComplexHeatmap_2.25.2.zip PackageFileSize: 2.985 MiB