Package: ComplexHeatmap Version: 2.23.0 Command: E:\biocbuild\bbs-3.21-bioc\R\bin\R.exe CMD INSTALL ComplexHeatmap StartedAt: 2025-02-05 15:36:51 -0500 (Wed, 05 Feb 2025) EndedAt: 2025-02-05 15:42:12 -0500 (Wed, 05 Feb 2025) EllapsedTime: 320.9 seconds RetCode: 0 Status: OK