Package: ComplexHeatmap Version: 2.23.0 Command: chmod a+r ComplexHeatmap -R && E:\biocbuild\bbs-3.21-bioc\R\bin\R.exe CMD build --keep-empty-dirs --no-resave-data ComplexHeatmap StartedAt: 2025-02-02 17:57:44 -0500 (Sun, 02 Feb 2025) EndedAt: 2025-02-02 18:01:54 -0500 (Sun, 02 Feb 2025) EllapsedTime: 249.2 seconds RetCode: 0 Status: OK PackageFile: ComplexHeatmap_2.23.0.tar.gz PackageFileSize: 1.377 MiB