Package: ComplexHeatmap Version: 2.23.0 Command: /home/biocbuild/bbs-3.21-bioc/R/bin/R CMD check --install=check:ComplexHeatmap.install-out.txt --library=/home/biocbuild/bbs-3.21-bioc/R/site-library --timings ComplexHeatmap_2.23.0.tar.gz StartedAt: 2025-02-05 21:09:40 -0500 (Wed, 05 Feb 2025) EndedAt: 2025-02-05 21:14:58 -0500 (Wed, 05 Feb 2025) EllapsedTime: 318.4 seconds RetCode: 0 Status: OK CheckDir: ComplexHeatmap.Rcheck Warnings: 0