Package: ComplexHeatmap Version: 2.23.0 Command: /home/biocbuild/bbs-3.21-bioc/R/bin/R CMD build --keep-empty-dirs --no-resave-data ComplexHeatmap StartedAt: 2025-02-05 16:45:05 -0500 (Wed, 05 Feb 2025) EndedAt: 2025-02-05 16:45:36 -0500 (Wed, 05 Feb 2025) EllapsedTime: 31.0 seconds RetCode: 0 Status: OK PackageFile: ComplexHeatmap_2.23.0.tar.gz PackageFileSize: 1.392 MiB