Package: ComplexHeatmap Version: 2.23.0 Command: /Library/Frameworks/R.framework/Resources/bin/R CMD check --install=check:ComplexHeatmap.install-out.txt --library=/Library/Frameworks/R.framework/Resources/library --no-vignettes --timings ComplexHeatmap_2.23.0.tar.gz StartedAt: 2025-01-31 18:39:33 -0500 (Fri, 31 Jan 2025) EndedAt: 2025-01-31 18:41:29 -0500 (Fri, 31 Jan 2025) EllapsedTime: 116.3 seconds RetCode: 0 Status: OK CheckDir: ComplexHeatmap.Rcheck Warnings: 0