Package: ComplexHeatmap Version: 2.25.0 Maintainer: Zuguang Gu MaintainerEmail: z.gu at dkfz.de git_url: https://git.bioconductor.org/packages/ComplexHeatmap git_branch: devel git_last_commit: 4631d6b git_last_commit_date: 2025-04-15 10:49:41 -0400 (Tue, 15 Apr 2025)