Package: ComPrAn Version: 1.17.0 Command: /Library/Frameworks/R.framework/Resources/bin/R CMD build --keep-empty-dirs --no-resave-data ComPrAn StartedAt: 2025-05-05 16:22:21 -0400 (Mon, 05 May 2025) EndedAt: 2025-05-05 16:22:49 -0400 (Mon, 05 May 2025) EllapsedTime: 27.4 seconds RetCode: 0 Status: OK PackageFile: ComPrAn_1.17.0.tar.gz PackageFileSize: 3.35 MiB