Package: Cogito Version: 1.15.2 Command: chmod a+r Cogito -R && F:\biocbuild\bbs-3.22-bioc\R\bin\R.exe CMD build --keep-empty-dirs --no-resave-data Cogito StartedAt: 2025-08-14 19:14:47 -0400 (Thu, 14 Aug 2025) EndedAt: 2025-08-14 19:16:12 -0400 (Thu, 14 Aug 2025) EllapsedTime: 84.9 seconds RetCode: 0 Status: OK PackageFile: Cogito_1.15.2.tar.gz PackageFileSize: 869.3 KiB