Package: Cogito Version: 1.15.2 Command: /home/biocbuild/bbs-3.22-bioc/R/bin/R CMD INSTALL Cogito StartedAt: 2025-10-12 15:42:45 -0400 (Sun, 12 Oct 2025) EndedAt: 2025-10-12 15:43:22 -0400 (Sun, 12 Oct 2025) EllapsedTime: 37.1 seconds RetCode: 0 Status: OK