Package: Cogito Version: 1.15.0 Command: /Library/Frameworks/R.framework/Resources/bin/R CMD check --install=check:Cogito.install-out.txt --library=/Library/Frameworks/R.framework/Resources/library --no-vignettes --timings Cogito_1.15.0.tar.gz StartedAt: 2025-05-27 19:41:32 -0400 (Tue, 27 May 2025) EndedAt: 2025-05-27 19:46:28 -0400 (Tue, 27 May 2025) EllapsedTime: 295.8 seconds RetCode: 0 Status: OK CheckDir: Cogito.Rcheck Warnings: 0