Package: Cogito Version: 1.15.0 Command: /Library/Frameworks/R.framework/Resources/bin/R CMD build --keep-empty-dirs --no-resave-data Cogito StartedAt: 2025-05-27 16:21:21 -0400 (Tue, 27 May 2025) EndedAt: 2025-05-27 16:22:36 -0400 (Tue, 27 May 2025) EllapsedTime: 74.2 seconds RetCode: 0 Status: OK PackageFile: Cogito_1.15.0.tar.gz PackageFileSize: 868.9 KiB