Package: CoGAPS Version: 3.29.1 Command: rm -rf CoGAPS.buildbin-libdir && mkdir CoGAPS.buildbin-libdir && /Users/biocbuild/BBS/utils/build-universal.sh CoGAPS_3.29.1.tar.gz /Library/Frameworks/R.framework/Resources/bin/R CoGAPS.buildbin-libdir StartedAt: 2025-10-11 02:23:21 -0400 (Sat, 11 Oct 2025) EndedAt: 2025-10-11 02:26:24 -0400 (Sat, 11 Oct 2025) EllapsedTime: 183.4 seconds RetCode: 0 Status: OK PackageFile: CoGAPS_3.29.1.tgz PackageFileSize: 20.56 MiB