Package: CoCiteStats Version: 1.79.0 Command: chmod a+r CoCiteStats -R && E:\biocbuild\bbs-3.21-bioc\R\bin\R.exe CMD build --keep-empty-dirs --no-resave-data CoCiteStats StartedAt: 2025-02-03 18:10:31 -0500 (Mon, 03 Feb 2025) EndedAt: 2025-02-03 18:10:33 -0500 (Mon, 03 Feb 2025) EllapsedTime: 2.0 seconds RetCode: 0 Status: OK PackageFile: CoCiteStats_1.79.0.tar.gz PackageFileSize: 5.338 KiB