Package: CoCiteStats Version: 1.79.0 Command: /home/biocbuild/R/R/bin/R CMD INSTALL CoCiteStats StartedAt: 2025-01-29 19:44:46 -0000 (Wed, 29 Jan 2025) EndedAt: 2025-01-29 19:45:03 -0000 (Wed, 29 Jan 2025) EllapsedTime: 17.2 seconds RetCode: 0 Status: OK