Package: CoCiteStats Version: 1.79.0 Command: /home/biocbuild/R/R/bin/R CMD build --keep-empty-dirs --no-resave-data CoCiteStats StartedAt: 2025-01-28 22:00:44 -0000 (Tue, 28 Jan 2025) EndedAt: 2025-01-28 22:00:45 -0000 (Tue, 28 Jan 2025) EllapsedTime: 1.0 seconds RetCode: 0 Status: OK PackageFile: CoCiteStats_1.79.0.tar.gz PackageFileSize: 5.328 KiB