Package: CoCiteStats Version: 1.79.0 Command: /Library/Frameworks/R.framework/Resources/bin/R CMD build --keep-empty-dirs --no-resave-data CoCiteStats StartedAt: 2025-02-03 16:31:41 -0500 (Mon, 03 Feb 2025) EndedAt: 2025-02-03 16:31:42 -0500 (Mon, 03 Feb 2025) EllapsedTime: 1.0 seconds RetCode: 0 Status: OK PackageFile: CoCiteStats_1.79.0.tar.gz PackageFileSize: 5.339 KiB