Package: ClusterSignificance Version: 1.35.0 Command: E:\biocbuild\bbs-3.21-bioc\R\bin\R.exe CMD check --no-multiarch --install=check:ClusterSignificance.install-out.txt --library=E:\biocbuild\bbs-3.21-bioc\R\library --no-vignettes --timings ClusterSignificance_1.35.0.tar.gz StartedAt: 2025-02-02 23:41:07 -0500 (Sun, 02 Feb 2025) EndedAt: 2025-02-02 23:41:49 -0500 (Sun, 02 Feb 2025) EllapsedTime: 42.2 seconds RetCode: 0 Status: OK CheckDir: ClusterSignificance.Rcheck Warnings: 0