Package: ClusterGVis Version: 0.99.9 Command: /home/biocbuild/bbs-3.23-bioc/R/bin/R CMD INSTALL ClusterGVis StartedAt: 2025-11-24 15:22:37 -0500 (Mon, 24 Nov 2025) EndedAt: 2025-11-24 15:23:10 -0500 (Mon, 24 Nov 2025) EllapsedTime: 33.1 seconds RetCode: 0 Status: OK