Package: ClusterGVis Version: 0.99.9 Command: /home/biocbuild/bbs-3.23-bioc/R/bin/R CMD build --keep-empty-dirs --no-resave-data ClusterGVis StartedAt: 2025-11-24 16:51:49 -0500 (Mon, 24 Nov 2025) EndedAt: 2025-11-24 16:53:11 -0500 (Mon, 24 Nov 2025) EllapsedTime: 82.1 seconds RetCode: 0 Status: OK PackageFile: ClusterGVis_0.99.9.tar.gz PackageFileSize: 2.473 MiB