Package: ClusterGVis Version: 0.99.9 Command: rm -rf ClusterGVis.buildbin-libdir && mkdir ClusterGVis.buildbin-libdir && /Users/biocbuild/BBS/utils/build-universal.sh ClusterGVis_0.99.9.tar.gz /Library/Frameworks/R.framework/Resources/bin/R ClusterGVis.buildbin-libdir StartedAt: 2025-11-25 01:25:16 -0500 (Tue, 25 Nov 2025) EndedAt: 2025-11-25 01:25:56 -0500 (Tue, 25 Nov 2025) EllapsedTime: 39.4 seconds RetCode: 0 Status: OK PackageFile: ClusterGVis_0.99.9.tgz PackageFileSize: 2.066 MiB