Package: ClusterGVis Version: 0.99.9 Command: /Library/Frameworks/R.framework/Resources/bin/R CMD INSTALL ClusterGVis StartedAt: 2025-11-24 15:14:36 -0500 (Mon, 24 Nov 2025) EndedAt: 2025-11-24 15:14:49 -0500 (Mon, 24 Nov 2025) EllapsedTime: 13.0 seconds RetCode: 0 Status: OK