Package: ClusterGVis Version: 0.99.9 Command: /Library/Frameworks/R.framework/Resources/bin/R CMD build --keep-empty-dirs --no-resave-data ClusterGVis StartedAt: 2025-11-24 15:59:42 -0500 (Mon, 24 Nov 2025) EndedAt: 2025-11-24 16:00:16 -0500 (Mon, 24 Nov 2025) EllapsedTime: 33.4 seconds RetCode: 0 Status: OK PackageFile: ClusterGVis_0.99.9.tar.gz PackageFileSize: 2.555 MiB