Package: ClusterFoldSimilarity Version: 1.5.0 Command: /home/biocbuild/bbs-3.22-bioc/R/bin/R CMD INSTALL ClusterFoldSimilarity StartedAt: 2025-10-07 15:22:15 -0400 (Tue, 07 Oct 2025) EndedAt: 2025-10-07 15:22:51 -0400 (Tue, 07 Oct 2025) EllapsedTime: 36.1 seconds RetCode: 0 Status: OK