Package: ClusterFoldSimilarity Version: 1.5.0 Command: /home/biocbuild/bbs-3.22-bioc/R/bin/R CMD build --keep-empty-dirs --no-resave-data --md5 ClusterFoldSimilarity StartedAt: 2025-10-07 16:52:46 -0400 (Tue, 07 Oct 2025) EndedAt: 2025-10-07 17:01:52 -0400 (Tue, 07 Oct 2025) EllapsedTime: 545.5 seconds RetCode: 0 Status: OK PackageFile: ClusterFoldSimilarity_1.5.0.tar.gz PackageFileSize: 1.566 MiB