Package: ClusterFoldSimilarity Version: 1.3.0 Command: /home/biocbuild/R/R/bin/R CMD build --keep-empty-dirs --no-resave-data ClusterFoldSimilarity StartedAt: 2025-01-28 21:56:56 -0000 (Tue, 28 Jan 2025) EndedAt: 2025-01-28 22:36:57 -0000 (Tue, 28 Jan 2025) EllapsedTime: 2400.9 seconds RetCode: None Status: TIMEOUT PackageFile: None PackageFileSize: NA