Package: ClustIRR Version: 1.5.39 Command: chmod a+r ClustIRR -R && E:\biocbuild\bbs-3.21-bioc\R\bin\R.exe CMD build --keep-empty-dirs --no-resave-data ClustIRR StartedAt: 2025-02-02 17:52:54 -0500 (Sun, 02 Feb 2025) EndedAt: 2025-02-02 18:05:51 -0500 (Sun, 02 Feb 2025) EllapsedTime: 776.7 seconds RetCode: 0 Status: OK PackageFile: ClustIRR_1.5.39.tar.gz PackageFileSize: 2.442 MiB