Package: ClustIRR Version: 1.9.0 Maintainer: Simo Kitanovski MaintainerEmail: simokitanovski at gmail.com git_url: https://git.bioconductor.org/packages/ClustIRR git_branch: devel git_last_commit: 78f317f git_last_commit_date: 2025-10-29 11:25:33 -0500 (Wed, 29 Oct 2025)