Package: ClustAll Version: 1.5.0 Command: chmod a+r ClustAll -R && F:\biocbuild\bbs-3.22-bioc\R\bin\R.exe CMD build --keep-empty-dirs --no-resave-data ClustAll StartedAt: 2025-08-14 19:10:59 -0400 (Thu, 14 Aug 2025) EndedAt: 2025-08-14 19:16:13 -0400 (Thu, 14 Aug 2025) EllapsedTime: 314.4 seconds RetCode: 0 Status: OK PackageFile: ClustAll_1.5.0.tar.gz PackageFileSize: 2.778 MiB