Package: CluMSID Version: 1.25.0 Command: /home/biocbuild/bbs-3.22-bioc/R/bin/R CMD INSTALL CluMSID StartedAt: 2025-10-08 15:50:46 -0400 (Wed, 08 Oct 2025) EndedAt: 2025-10-08 15:51:38 -0400 (Wed, 08 Oct 2025) EllapsedTime: 51.9 seconds RetCode: 0 Status: OK