Package: CluMSID Version: 1.25.0 Command: /home/biocbuild/bbs-3.22-bioc/R/bin/R CMD build --keep-empty-dirs --no-resave-data --md5 CluMSID StartedAt: 2025-10-08 17:13:01 -0400 (Wed, 08 Oct 2025) EndedAt: 2025-10-08 17:18:45 -0400 (Wed, 08 Oct 2025) EllapsedTime: 343.3 seconds RetCode: 0 Status: OK PackageFile: CluMSID_1.25.0.tar.gz PackageFileSize: 4.497 MiB