Package: CleanUpRNAseq Version: 1.3.2 Command: rm -rf CleanUpRNAseq.buildbin-libdir && mkdir CleanUpRNAseq.buildbin-libdir && F:\biocbuild\bbs-3.22-bioc\R\bin\R.exe CMD INSTALL --build --library=CleanUpRNAseq.buildbin-libdir CleanUpRNAseq_1.3.2.tar.gz StartedAt: 2025-08-15 09:58:04 -0400 (Fri, 15 Aug 2025) EndedAt: 2025-08-15 09:59:28 -0400 (Fri, 15 Aug 2025) EllapsedTime: 83.9 seconds RetCode: 0 Status: OK PackageFile: CleanUpRNAseq_1.3.2.zip PackageFileSize: 2.146 MiB