Package: CleanUpRNAseq Version: 1.3.1 Command: /Library/Frameworks/R.framework/Resources/bin/R CMD INSTALL CleanUpRNAseq StartedAt: 2025-05-21 15:49:05 -0400 (Wed, 21 May 2025) EndedAt: 2025-05-21 15:49:59 -0400 (Wed, 21 May 2025) EllapsedTime: 54.0 seconds RetCode: 0 Status: OK