Package: CleanUpRNAseq Version: 1.3.1 Command: /Library/Frameworks/R.framework/Resources/bin/R CMD build --keep-empty-dirs --no-resave-data CleanUpRNAseq StartedAt: 2025-05-22 16:18:30 -0400 (Thu, 22 May 2025) EndedAt: 2025-05-22 16:20:00 -0400 (Thu, 22 May 2025) EllapsedTime: 89.1 seconds RetCode: 0 Status: OK PackageFile: CleanUpRNAseq_1.3.1.tar.gz PackageFileSize: 2.473 MiB