Package: CleanUpRNAseq Version: 1.3.1 Command: /Library/Frameworks/R.framework/Resources/bin/R CMD check --install=check:CleanUpRNAseq.install-out.txt --library=/Library/Frameworks/R.framework/Resources/library --no-vignettes --timings CleanUpRNAseq_1.3.1.tar.gz StartedAt: 2025-05-09 18:46:39 -0400 (Fri, 09 May 2025) EndedAt: 2025-05-09 18:49:10 -0400 (Fri, 09 May 2025) EllapsedTime: 150.9 seconds RetCode: 0 Status: OK CheckDir: CleanUpRNAseq.Rcheck Warnings: 0