Package: ClassifyR Version: 3.13.5 Command: /home/biocbuild/R/R/bin/R CMD INSTALL ClassifyR StartedAt: 2025-10-02 20:49:36 -0000 (Thu, 02 Oct 2025) EndedAt: 2025-10-02 20:50:22 -0000 (Thu, 02 Oct 2025) EllapsedTime: 46.8 seconds RetCode: 0 Status: OK