Package: ClassifyR Version: 3.13.5 Command: /home/biocbuild/R/R/bin/R CMD build --keep-empty-dirs --no-resave-data ClassifyR StartedAt: 2025-10-02 22:48:37 -0000 (Thu, 02 Oct 2025) EndedAt: 2025-10-02 23:17:44 -0000 (Thu, 02 Oct 2025) EllapsedTime: 1746.9 seconds RetCode: 0 Status: OK PackageFile: ClassifyR_3.13.5.tar.gz PackageFileSize: 2.076 MiB