Package: ClassifyR Version: 3.13.8 Command: /home/biocbuild/bbs-3.22-bioc/R/bin/R CMD check --install=check:ClassifyR.install-out.txt --library=/home/biocbuild/bbs-3.22-bioc/R/site-library --timings ClassifyR_3.13.8.tar.gz StartedAt: 2025-10-14 22:17:24 -0400 (Tue, 14 Oct 2025) EndedAt: 2025-10-14 22:23:56 -0400 (Tue, 14 Oct 2025) EllapsedTime: 392.5 seconds RetCode: 0 Status: OK CheckDir: ClassifyR.Rcheck Warnings: 0