Package: ClassifyR Version: 3.11.4 Command: /Library/Frameworks/R.framework/Resources/bin/R CMD build --keep-empty-dirs --no-resave-data ClassifyR StartedAt: 2025-01-10 16:14:14 -0500 (Fri, 10 Jan 2025) EndedAt: 2025-01-10 16:17:21 -0500 (Fri, 10 Jan 2025) EllapsedTime: 186.8 seconds RetCode: 0 Status: OK PackageFile: ClassifyR_3.11.4.tar.gz PackageFileSize: 2.046 MiB