Package: CiteFuse Version: 1.21.0 Command: /home/biocbuild/R/R/bin/R CMD build --keep-empty-dirs --no-resave-data CiteFuse StartedAt: 2025-09-29 22:55:00 -0000 (Mon, 29 Sep 2025) EndedAt: 2025-09-29 22:59:14 -0000 (Mon, 29 Sep 2025) EllapsedTime: 254.2 seconds RetCode: 0 Status: OK PackageFile: CiteFuse_1.21.0.tar.gz PackageFileSize: 2.651 MiB