Package: CiteFuse Version: 1.21.0 Command: /Library/Frameworks/R.framework/Resources/bin/R CMD check --install=check:CiteFuse.install-out.txt --library=/Library/Frameworks/R.framework/Resources/library --no-vignettes --timings CiteFuse_1.21.0.tar.gz StartedAt: 2025-05-07 19:43:42 -0400 (Wed, 07 May 2025) EndedAt: 2025-05-07 19:48:43 -0400 (Wed, 07 May 2025) EllapsedTime: 301.0 seconds RetCode: 0 Status: OK CheckDir: CiteFuse.Rcheck Warnings: 0