Package: CiteFuse Version: 1.21.0 Command: /Library/Frameworks/R.framework/Resources/bin/R CMD INSTALL CiteFuse StartedAt: 2025-05-08 15:29:57 -0400 (Thu, 08 May 2025) EndedAt: 2025-05-08 15:30:15 -0400 (Thu, 08 May 2025) EllapsedTime: 18.6 seconds RetCode: 0 Status: OK