Package: CiteFuse Version: 1.21.0 Command: rm -rf CiteFuse.buildbin-libdir && mkdir CiteFuse.buildbin-libdir && /Users/biocbuild/BBS/utils/build-universal.sh CiteFuse_1.21.0.tar.gz /Library/Frameworks/R.framework/Resources/bin/R CiteFuse.buildbin-libdir StartedAt: 2025-05-09 22:35:44 -0400 (Fri, 09 May 2025) EndedAt: 2025-05-09 22:36:04 -0400 (Fri, 09 May 2025) EllapsedTime: 20.4 seconds RetCode: 0 Status: OK PackageFile: CiteFuse_1.21.0.tgz PackageFileSize: 3.629 MiB