Package: CircSeqAlignTk Version: 1.9.0 Command: E:\biocbuild\bbs-3.21-bioc\R\bin\R.exe CMD check --no-multiarch --install=check:CircSeqAlignTk.install-out.txt --library=E:\biocbuild\bbs-3.21-bioc\R\library --no-vignettes --timings CircSeqAlignTk_1.9.0.tar.gz StartedAt: 2025-02-04 00:07:48 -0500 (Tue, 04 Feb 2025) EndedAt: 2025-02-04 00:14:05 -0500 (Tue, 04 Feb 2025) EllapsedTime: 377.4 seconds RetCode: 1 Status: ERROR CheckDir: CircSeqAlignTk.Rcheck Warnings: NA