Package: CircSeqAlignTk Version: 1.9.0 Command: /Library/Frameworks/R.framework/Resources/bin/R CMD build --keep-empty-dirs --no-resave-data CircSeqAlignTk StartedAt: 2025-02-16 16:12:09 -0500 (Sun, 16 Feb 2025) EndedAt: 2025-02-16 16:15:05 -0500 (Sun, 16 Feb 2025) EllapsedTime: 176.2 seconds RetCode: 0 Status: OK PackageFile: CircSeqAlignTk_1.9.0.tar.gz PackageFileSize: 2.05 MiB