Package: Chromatograms Version: 0.99.6 Command: /home/biocbuild/bbs-3.22-bioc/R/bin/R CMD INSTALL Chromatograms StartedAt: 2025-10-07 15:13:54 -0400 (Tue, 07 Oct 2025) EndedAt: 2025-10-07 15:14:08 -0400 (Tue, 07 Oct 2025) EllapsedTime: 13.5 seconds RetCode: 0 Status: OK