Package: Chromatograms Version: 0.99.6 Command: /home/biocbuild/bbs-3.22-bioc/R/bin/R CMD build --keep-empty-dirs --no-resave-data --md5 Chromatograms StartedAt: 2025-10-07 16:49:00 -0400 (Tue, 07 Oct 2025) EndedAt: 2025-10-07 16:49:34 -0400 (Tue, 07 Oct 2025) EllapsedTime: 34.0 seconds RetCode: 0 Status: OK PackageFile: Chromatograms_0.99.6.tar.gz PackageFileSize: 848.4 KiB