Package: Chromatograms Version: 1.1.0 Command: /Library/Frameworks/R.framework/Resources/bin/R CMD INSTALL Chromatograms StartedAt: 2025-11-26 15:21:28 -0500 (Wed, 26 Nov 2025) EndedAt: 2025-11-26 15:21:43 -0500 (Wed, 26 Nov 2025) EllapsedTime: 15.0 seconds RetCode: 0 Status: OK